<?xml version="1.0" encoding="UTF-8"?>
<Capabilities xmlns="http://www.opengis.net/wmts/1.0"
xmlns:ows="http://www.opengis.net/ows/1.1"
xmlns:xlink="http://www.w3.org/1999/xlink"
xmlns:xsi="http://www.w3.org/2001/XMLSchema-instance"
xmlns:gml="http://www.opengis.net/gml"
xsi:schemaLocation="http://www.opengis.net/wmts/1.0 http://schemas.opengis.net/wmts/1.0/wmtsGetCapabilities_response.xsd"
version="1.0.0">
<!-- Service Identification --> <ows:ServiceIdentification>
<ows:Title>thematic_mhd_dochazka</ows:Title>
<ows:ServiceType>OGC WMTS</ows:ServiceType>
<ows:ServiceTypeVersion>1.0.0</ows:ServiceTypeVersion>
</ows:ServiceIdentification> <!-- Operations Metadata --> <ows:OperationsMetadata>
<ows:Operation name="GetCapabilities">
<ows:DCP>
<ows:HTTP>
<ows:Get xlink:href="http://geoportal.mmhk.cz/arcgis/rest/services/thematic/mhd_dochazka/MapServer/WMTS/1.0.0/WMTSCapabilities.xml">
<ows:Constraint name="GetEncoding">
<ows:AllowedValues>
<ows:Value>RESTful</ows:Value>
</ows:AllowedValues>
</ows:Constraint>
</ows:Get>
<!-- add KVP binding in 10.1 -->
<ows:Get xlink:href="http://geoportal.mmhk.cz/arcgis/rest/services/thematic/mhd_dochazka/MapServer/WMTS?">
<ows:Constraint name="GetEncoding">
<ows:AllowedValues>
<ows:Value>KVP</ows:Value>
</ows:AllowedValues>
</ows:Constraint>
</ows:Get>
</ows:HTTP>
</ows:DCP>
</ows:Operation>
<ows:Operation name="GetTile">
<ows:DCP>
<ows:HTTP>
<ows:Get xlink:href="http://geoportal.mmhk.cz/arcgis/rest/services/thematic/mhd_dochazka/MapServer/WMTS/tile/1.0.0/">
<ows:Constraint name="GetEncoding">
<ows:AllowedValues>
<ows:Value>RESTful</ows:Value>
</ows:AllowedValues>
</ows:Constraint>
</ows:Get>
<ows:Get xlink:href="http://geoportal.mmhk.cz/arcgis/rest/services/thematic/mhd_dochazka/MapServer/WMTS?">
<ows:Constraint name="GetEncoding">
<ows:AllowedValues>
<ows:Value>KVP</ows:Value>
</ows:AllowedValues>
</ows:Constraint>
</ows:Get>
</ows:HTTP>
</ows:DCP>
</ows:Operation>
</ows:OperationsMetadata> <Contents>
<!--Layer--> <Layer>
<ows:Title>thematic_mhd_dochazka</ows:Title> <ows:Identifier>thematic_mhd_dochazka</ows:Identifier>
<ows:BoundingBox crs="urn:ogc:def:crs:EPSG::5514">
<ows:LowerCorner>-648976.3704757312 -1053613.2023050035</ows:LowerCorner>
<ows:UpperCorner>-631988.338985428 -1029938.3924621351</ows:UpperCorner>
</ows:BoundingBox> <ows:WGS84BoundingBox crs="urn:ogc:def:crs:OGC:2:84">
<ows:LowerCorner>15.702664588279283 50.10132995434637</ows:LowerCorner>
<ows:UpperCorner>15.978054787238714 50.33067538489411</ows:UpperCorner>
</ows:WGS84BoundingBox>
<Style isDefault="true">
<ows:Title>Default Style</ows:Title>
<ows:Identifier>default</ows:Identifier>
</Style>
<Format>image/png</Format>
<TileMatrixSetLink>
<TileMatrixSet>default028mm</TileMatrixSet>
</TileMatrixSetLink>
<ResourceURL format="image/png" resourceType="tile" template="http://geoportal.mmhk.cz/arcgis/rest/services/thematic/mhd_dochazka/MapServer/WMTS/tile/1.0.0/thematic_mhd_dochazka/{Style}/{TileMatrixSet}/{TileMatrix}/{TileRow}/{TileCol}.png" />
</Layer> <!--TileMatrixSet-->
<TileMatrixSet>
<ows:Title>TileMatrix using 0.28mm</ows:Title>
<ows:Abstract>The tile matrix set that has scale values calculated based on the dpi defined by OGC specification (dpi assumes 0.28mm as the physical distance of a pixel).</ows:Abstract> <ows:Identifier>default028mm</ows:Identifier>
<ows:SupportedCRS>urn:ogc:def:crs:EPSG::5514</ows:SupportedCRS>
<TileMatrix>
<ows:Identifier>0</ows:Identifier>
<ScaleDenominator>228600.45720088566</ScaleDenominator>
<TopLeftCorner>-3.36998E7 3.36998E7</TopLeftCorner> <TileWidth>256</TileWidth> <TileHeight>256</TileHeight>
<MatrixWidth>2019</MatrixWidth> <MatrixHeight>2121</MatrixHeight>
</TileMatrix>
<TileMatrix>
<ows:Identifier>1</ows:Identifier>
<ScaleDenominator>114300.22860044283</ScaleDenominator>
<TopLeftCorner>-3.36998E7 3.36998E7</TopLeftCorner> <TileWidth>256</TileWidth> <TileHeight>256</TileHeight>
<MatrixWidth>4037</MatrixWidth> <MatrixHeight>4242</MatrixHeight>
</TileMatrix>
<TileMatrix>
<ows:Identifier>2</ows:Identifier>
<ScaleDenominator>57150.114300221416</ScaleDenominator>
<TopLeftCorner>-3.36998E7 3.36998E7</TopLeftCorner> <TileWidth>256</TileWidth> <TileHeight>256</TileHeight>
<MatrixWidth>8073</MatrixWidth> <MatrixHeight>8484</MatrixHeight>
</TileMatrix>
<TileMatrix>
<ows:Identifier>3</ows:Identifier>
<ScaleDenominator>28575.057150110708</ScaleDenominator>
<TopLeftCorner>-3.36998E7 3.36998E7</TopLeftCorner> <TileWidth>256</TileWidth> <TileHeight>256</TileHeight>
<MatrixWidth>16145</MatrixWidth> <MatrixHeight>16968</MatrixHeight>
</TileMatrix>
<TileMatrix>
<ows:Identifier>4</ows:Identifier>
<ScaleDenominator>14287.528575055354</ScaleDenominator>
<TopLeftCorner>-3.36998E7 3.36998E7</TopLeftCorner> <TileWidth>256</TileWidth> <TileHeight>256</TileHeight>
<MatrixWidth>32289</MatrixWidth> <MatrixHeight>33935</MatrixHeight>
</TileMatrix>
<TileMatrix>
<ows:Identifier>5</ows:Identifier>
<ScaleDenominator>7143.764287527677</ScaleDenominator>
<TopLeftCorner>-3.36998E7 3.36998E7</TopLeftCorner> <TileWidth>256</TileWidth> <TileHeight>256</TileHeight>
<MatrixWidth>64578</MatrixWidth> <MatrixHeight>67870</MatrixHeight>
</TileMatrix>
<TileMatrix>
<ows:Identifier>6</ows:Identifier>
<ScaleDenominator>3571.8821437638385</ScaleDenominator>
<TopLeftCorner>-3.36998E7 3.36998E7</TopLeftCorner> <TileWidth>256</TileWidth> <TileHeight>256</TileHeight>
<MatrixWidth>129155</MatrixWidth> <MatrixHeight>135739</MatrixHeight>
</TileMatrix>
<TileMatrix>
<ows:Identifier>7</ows:Identifier>
<ScaleDenominator>1785.9410718819192</ScaleDenominator>
<TopLeftCorner>-3.36998E7 3.36998E7</TopLeftCorner> <TileWidth>256</TileWidth> <TileHeight>256</TileHeight>
<MatrixWidth>258310</MatrixWidth> <MatrixHeight>271477</MatrixHeight>
</TileMatrix>
<TileMatrix>
<ows:Identifier>8</ows:Identifier>
<ScaleDenominator>892.9705359409596</ScaleDenominator>
<TopLeftCorner>-3.36998E7 3.36998E7</TopLeftCorner> <TileWidth>256</TileWidth> <TileHeight>256</TileHeight>
<MatrixWidth>516619</MatrixWidth> <MatrixHeight>542954</MatrixHeight>
</TileMatrix>
<TileMatrix>
<ows:Identifier>9</ows:Identifier>
<ScaleDenominator>446.4852679704798</ScaleDenominator>
<TopLeftCorner>-3.36998E7 3.36998E7</TopLeftCorner> <TileWidth>256</TileWidth> <TileHeight>256</TileHeight>
<MatrixWidth>1033238</MatrixWidth> <MatrixHeight>1085907</MatrixHeight>
</TileMatrix>
</TileMatrixSet>
</Contents>
<ServiceMetadataURL xlink:href="http://geoportal.mmhk.cz/arcgis/rest/services/thematic/mhd_dochazka/MapServer/WMTS/1.0.0/WMTSCapabilities.xml" /> </Capabilities>
