<?xml version="1.0" encoding="UTF-8"?>
<Capabilities xmlns="http://www.opengis.net/wmts/1.0"
xmlns:ows="http://www.opengis.net/ows/1.1"
xmlns:xlink="http://www.w3.org/1999/xlink"
xmlns:xsi="http://www.w3.org/2001/XMLSchema-instance"
xmlns:gml="http://www.opengis.net/gml"
xsi:schemaLocation="http://www.opengis.net/wmts/1.0 http://schemas.opengis.net/wmts/1.0/wmtsGetCapabilities_response.xsd"
version="1.0.0">
<!-- Service Identification --> <ows:ServiceIdentification>
<ows:Title>thematic_proch_okruh_hist_mesto</ows:Title>
<ows:ServiceType>OGC WMTS</ows:ServiceType>
<ows:ServiceTypeVersion>1.0.0</ows:ServiceTypeVersion>
</ows:ServiceIdentification> <!-- Operations Metadata --> <ows:OperationsMetadata>
<ows:Operation name="GetCapabilities">
<ows:DCP>
<ows:HTTP>
<ows:Get xlink:href="http://geoportal.mmhk.cz/arcgis/rest/services/thematic/proch_okruh_hist_mesto/MapServer/WMTS/1.0.0/WMTSCapabilities.xml">
<ows:Constraint name="GetEncoding">
<ows:AllowedValues>
<ows:Value>RESTful</ows:Value>
</ows:AllowedValues>
</ows:Constraint>
</ows:Get>
<!-- add KVP binding in 10.1 -->
<ows:Get xlink:href="http://geoportal.mmhk.cz/arcgis/rest/services/thematic/proch_okruh_hist_mesto/MapServer/WMTS?">
<ows:Constraint name="GetEncoding">
<ows:AllowedValues>
<ows:Value>KVP</ows:Value>
</ows:AllowedValues>
</ows:Constraint>
</ows:Get>
</ows:HTTP>
</ows:DCP>
</ows:Operation>
<ows:Operation name="GetTile">
<ows:DCP>
<ows:HTTP>
<ows:Get xlink:href="http://geoportal.mmhk.cz/arcgis/rest/services/thematic/proch_okruh_hist_mesto/MapServer/WMTS/tile/1.0.0/">
<ows:Constraint name="GetEncoding">
<ows:AllowedValues>
<ows:Value>RESTful</ows:Value>
</ows:AllowedValues>
</ows:Constraint>
</ows:Get>
<ows:Get xlink:href="http://geoportal.mmhk.cz/arcgis/rest/services/thematic/proch_okruh_hist_mesto/MapServer/WMTS?">
<ows:Constraint name="GetEncoding">
<ows:AllowedValues>
<ows:Value>KVP</ows:Value>
</ows:AllowedValues>
</ows:Constraint>
</ows:Get>
</ows:HTTP>
</ows:DCP>
</ows:Operation>
</ows:OperationsMetadata> <Contents>
<!--Layer--> <Layer>
<ows:Title>thematic_proch_okruh_hist_mesto</ows:Title> <ows:Identifier>thematic_proch_okruh_hist_mesto</ows:Identifier>
<ows:BoundingBox crs="urn:ogc:def:crs:EPSG::5514">
<ows:LowerCorner>-644028.4055988952 -1043950.298299613</ows:LowerCorner>
<ows:UpperCorner>-638931.2205257675 -1040373.0406178333</ows:UpperCorner>
</ows:BoundingBox> <ows:WGS84BoundingBox crs="urn:ogc:def:crs:OGC:2:84">
<ows:LowerCorner>15.788969970525741 50.19287473367939</ows:LowerCorner>
<ows:UpperCorner>15.865792346470908 50.230210045110425</ows:UpperCorner>
</ows:WGS84BoundingBox>
<Style isDefault="true">
<ows:Title>Default Style</ows:Title>
<ows:Identifier>default</ows:Identifier>
</Style>
<Format>image/png</Format>
<TileMatrixSetLink>
<TileMatrixSet>default028mm</TileMatrixSet>
</TileMatrixSetLink>
<ResourceURL format="image/png" resourceType="tile" template="http://geoportal.mmhk.cz/arcgis/rest/services/thematic/proch_okruh_hist_mesto/MapServer/WMTS/tile/1.0.0/thematic_proch_okruh_hist_mesto/{Style}/{TileMatrixSet}/{TileMatrix}/{TileRow}/{TileCol}.png" />
</Layer> <!--TileMatrixSet-->
<TileMatrixSet>
<ows:Title>TileMatrix using 0.28mm</ows:Title>
<ows:Abstract>The tile matrix set that has scale values calculated based on the dpi defined by OGC specification (dpi assumes 0.28mm as the physical distance of a pixel).</ows:Abstract> <ows:Identifier>default028mm</ows:Identifier>
<ows:SupportedCRS>urn:ogc:def:crs:EPSG::5514</ows:SupportedCRS>
<TileMatrix>
<ows:Identifier>0</ows:Identifier>
<ScaleDenominator>228600.45720088566</ScaleDenominator>
<TopLeftCorner>-3.36998E7 3.36998E7</TopLeftCorner> <TileWidth>256</TileWidth> <TileHeight>256</TileHeight>
<MatrixWidth>2018</MatrixWidth> <MatrixHeight>2121</MatrixHeight>
</TileMatrix>
<TileMatrix>
<ows:Identifier>1</ows:Identifier>
<ScaleDenominator>114300.22860044283</ScaleDenominator>
<TopLeftCorner>-3.36998E7 3.36998E7</TopLeftCorner> <TileWidth>256</TileWidth> <TileHeight>256</TileHeight>
<MatrixWidth>4036</MatrixWidth> <MatrixHeight>4241</MatrixHeight>
</TileMatrix>
<TileMatrix>
<ows:Identifier>2</ows:Identifier>
<ScaleDenominator>57150.114300221416</ScaleDenominator>
<TopLeftCorner>-3.36998E7 3.36998E7</TopLeftCorner> <TileWidth>256</TileWidth> <TileHeight>256</TileHeight>
<MatrixWidth>8071</MatrixWidth> <MatrixHeight>8482</MatrixHeight>
</TileMatrix>
<TileMatrix>
<ows:Identifier>3</ows:Identifier>
<ScaleDenominator>28575.057150110708</ScaleDenominator>
<TopLeftCorner>-3.36998E7 3.36998E7</TopLeftCorner> <TileWidth>256</TileWidth> <TileHeight>256</TileHeight>
<MatrixWidth>16141</MatrixWidth> <MatrixHeight>16963</MatrixHeight>
</TileMatrix>
<TileMatrix>
<ows:Identifier>4</ows:Identifier>
<ScaleDenominator>14287.528575055354</ScaleDenominator>
<TopLeftCorner>-3.36998E7 3.36998E7</TopLeftCorner> <TileWidth>256</TileWidth> <TileHeight>256</TileHeight>
<MatrixWidth>32282</MatrixWidth> <MatrixHeight>33926</MatrixHeight>
</TileMatrix>
<TileMatrix>
<ows:Identifier>5</ows:Identifier>
<ScaleDenominator>7143.764287527677</ScaleDenominator>
<TopLeftCorner>-3.36998E7 3.36998E7</TopLeftCorner> <TileWidth>256</TileWidth> <TileHeight>256</TileHeight>
<MatrixWidth>64564</MatrixWidth> <MatrixHeight>67851</MatrixHeight>
</TileMatrix>
<TileMatrix>
<ows:Identifier>6</ows:Identifier>
<ScaleDenominator>3571.8821437638385</ScaleDenominator>
<TopLeftCorner>-3.36998E7 3.36998E7</TopLeftCorner> <TileWidth>256</TileWidth> <TileHeight>256</TileHeight>
<MatrixWidth>129128</MatrixWidth> <MatrixHeight>135701</MatrixHeight>
</TileMatrix>
<TileMatrix>
<ows:Identifier>7</ows:Identifier>
<ScaleDenominator>1785.9410718819192</ScaleDenominator>
<TopLeftCorner>-3.36998E7 3.36998E7</TopLeftCorner> <TileWidth>256</TileWidth> <TileHeight>256</TileHeight>
<MatrixWidth>258256</MatrixWidth> <MatrixHeight>271402</MatrixHeight>
</TileMatrix>
<TileMatrix>
<ows:Identifier>8</ows:Identifier>
<ScaleDenominator>892.9705359409596</ScaleDenominator>
<TopLeftCorner>-3.36998E7 3.36998E7</TopLeftCorner> <TileWidth>256</TileWidth> <TileHeight>256</TileHeight>
<MatrixWidth>516511</MatrixWidth> <MatrixHeight>542803</MatrixHeight>
</TileMatrix>
<TileMatrix>
<ows:Identifier>9</ows:Identifier>
<ScaleDenominator>446.4852679704798</ScaleDenominator>
<TopLeftCorner>-3.36998E7 3.36998E7</TopLeftCorner> <TileWidth>256</TileWidth> <TileHeight>256</TileHeight>
<MatrixWidth>1033021</MatrixWidth> <MatrixHeight>1085605</MatrixHeight>
</TileMatrix>
</TileMatrixSet>
</Contents>
<ServiceMetadataURL xlink:href="http://geoportal.mmhk.cz/arcgis/rest/services/thematic/proch_okruh_hist_mesto/MapServer/WMTS/1.0.0/WMTSCapabilities.xml" /> </Capabilities>
