View In:
ArcGIS JavaScript
ArcGIS.com Map
Google Earth
ArcMap
ArcGIS Explorer
View Footprint In:
ArcGIS.com Map
Service Description:
Map Name: Layers
Legend
All Layers and Tables
Layers:
Description:
Copyright Text:
Spatial Reference:
102100
(3857)
Single Fused Map Cache: true
Tile Info:
- Height: 256
- Width: 256
- DPI: 96
-
Levels of Detail: 20
-
Level ID: 0
[ Start Tile, End Tile ]
- Resolution: 156543.03392800014
- Scale: 5.91657527591555E8
-
Level ID: 1
[ Start Tile, End Tile ]
- Resolution: 78271.51696399994
- Scale: 2.95828763795777E8
-
Level ID: 2
[ Start Tile, End Tile ]
- Resolution: 39135.75848200009
- Scale: 1.47914381897889E8
-
Level ID: 3
[ Start Tile, End Tile ]
- Resolution: 19567.87924099992
- Scale: 7.3957190948944E7
-
Level ID: 4
[ Start Tile, End Tile ]
- Resolution: 9783.93962049996
- Scale: 3.6978595474472E7
-
Level ID: 5
[ Start Tile, End Tile ]
- Resolution: 4891.96981024998
- Scale: 1.8489297737236E7
- Format: PNG
- Compression Quality: 0.0
- Origin: X: -2.0037508342787E7
Y: 2.0037508342787E7
- Spatial Reference: 102100
(3857)
Initial Extent:
XMin: 1750713.3504371527
YMin: 6472687.176794761
XMax: 1776508.1924068255
YMax: 6493955.8369537415
Spatial Reference: 102100
(3857)
Full Extent:
XMin: 1752356.394236567
YMin: 6472687.176794761
XMax: 1774865.1486074112
YMax: 6493955.8369537415
Spatial Reference: 102100
(3857)
Units: esriMeters
Supported Image Format Types: PNG32,PNG24,PNG,JPG,DIB,TIFF,EMF,PS,PDF,GIF,SVG,SVGZ,BMP
Document Info:
Title:
Author:
Comments:
Subject:
Category:
Keywords:
AntialiasingMode: Best
TextAntialiasingMode: Force
Supports Dynamic Layers: false
MaxRecordCount: 1000
MaxImageHeight: 6144
MaxImageWidth: 6144
Supported Query Formats: JSON, AMF
Min Scale: 5.91657527591555E8
Max Scale: 1128.497176
Child Resources:
Info
Supported Operations:
Export Map
Identify
Find
Return Updates